BEGIN:VCALENDAR
VERSION:2.0
PRODID:-//hacksw/handcal//NONSGML v1.0//EN
CALSCALE:GREGORIAN
BEGIN:VEVENT
SUMMARY:Pets 2
DTSTART:20190716T150000Z
DTEND:20190716T165600Z
GEO:51.07124;13.75051
LOCATION:Filmtheater Schauburg\, Königsbrücker Straße 55\, 01099 Dresden
DESCRIPTION:
URL;VALUE=URI:http://kinokalender.com/termin1008747.html
DTSTAMP:20260425T203248Z
UID:69ed24f01759f
END:VEVENT
END:VCALENDAR