BEGIN:VCALENDAR
VERSION:2.0
PRODID:-//hacksw/handcal//NONSGML v1.0//EN
CALSCALE:GREGORIAN
BEGIN:VEVENT
SUMMARY:Das perfekte Geheimnis
DTSTART:20191125T193000Z
DTEND:20191125T220000Z
GEO:51.07124;13.75051
LOCATION:Filmtheater Schauburg\, Königsbrücker Straße 55\, 01099 Dresden
DESCRIPTION:
URL;VALUE=URI:http://kinokalender.com/termin1050094.html
DTSTAMP:20260420T090751Z
UID:69e5ece7d0af7
END:VEVENT
END:VCALENDAR