BEGIN:VCALENDAR
VERSION:2.0
PRODID:-//hacksw/handcal//NONSGML v1.0//EN
CALSCALE:GREGORIAN
BEGIN:VEVENT
SUMMARY:Elise und das vergessene Weihnachtsfest
DTSTART:20211121T084500Z
DTEND:20211121T102500Z
GEO:51.07124;13.75051
LOCATION:Filmtheater Schauburg\, Königsbrücker Straße 55\, 01099 Dresden
DESCRIPTION:
URL;VALUE=URI:http://kinokalender.com/termin1177433.html
DTSTAMP:20260424T114551Z
UID:69eb57ef8f3a4
END:VEVENT
END:VCALENDAR