BEGIN:VCALENDAR
VERSION:2.0
PRODID:-//hacksw/handcal//NONSGML v1.0//EN
CALSCALE:GREGORIAN
BEGIN:VEVENT
SUMMARY:Tagebuch einer Biene
DTSTART:20211121T110000Z
DTEND:20211121T130200Z
GEO:51.07124;13.75051
LOCATION:Filmtheater Schauburg\, Königsbrücker Straße 55\, 01099 Dresden
DESCRIPTION:
URL;VALUE=URI:http://kinokalender.com/termin1177439.html
DTSTAMP:20260422T090704Z
UID:69e88fb87bb19
END:VEVENT
END:VCALENDAR