BEGIN:VCALENDAR
VERSION:2.0
PRODID:-//hacksw/handcal//NONSGML v1.0//EN
CALSCALE:GREGORIAN
BEGIN:VEVENT
SUMMARY:Die Schule der magischen Tiere 2
DTSTART:20230224T123000Z
DTEND:20230224T144300Z
GEO:51.07124;13.75051
LOCATION:Filmtheater Schauburg\, Königsbrücker Straße 55\, 01099 Dresden
DESCRIPTION:
URL;VALUE=URI:http://kinokalender.com/termin1297188.html
DTSTAMP:20260424T114656Z
UID:69eb5830bc483
END:VEVENT
END:VCALENDAR