BEGIN:VCALENDAR
VERSION:2.0
PRODID:-//hacksw/handcal//NONSGML v1.0//EN
CALSCALE:GREGORIAN
BEGIN:VEVENT
SUMMARY:Heldin
DTSTART:20250305T140000Z
DTEND:20250305T160200Z
GEO:51.07124;13.75051
LOCATION:Filmtheater Schauburg\, Königsbrücker Straße 55\, 01099 Dresden
DESCRIPTION:
URL;VALUE=URI:http://kinokalender.com/termin1497033.html
DTSTAMP:20260425T203243Z
UID:69ed24eb6e2c6
END:VEVENT
END:VCALENDAR