BEGIN:VCALENDAR
VERSION:2.0
PRODID:-//hacksw/handcal//NONSGML v1.0//EN
CALSCALE:GREGORIAN
BEGIN:VEVENT
SUMMARY:Like A Complete Unknown
DTSTART:20250305T183000Z
DTEND:20250305T212000Z
GEO:51.07124;13.75051
LOCATION:Filmtheater Schauburg\, Königsbrücker Straße 55\, 01099 Dresden
DESCRIPTION:
URL;VALUE=URI:http://kinokalender.com/termin1497039.html
DTSTAMP:20260420T195949Z
UID:69e685b5e02f0
END:VEVENT
END:VCALENDAR