BEGIN:VCALENDAR
VERSION:2.0
PRODID:-//hacksw/handcal//NONSGML v1.0//EN
CALSCALE:GREGORIAN
BEGIN:VEVENT
SUMMARY:Konklave
DTSTART:20250521T163000Z
DTEND:20250521T190100Z
GEO:51.07124;13.75051
LOCATION:Filmtheater Schauburg\, Königsbrücker Straße 55\, 01099 Dresden
DESCRIPTION:
URL;VALUE=URI:http://kinokalender.com/termin1516779.html
DTSTAMP:20260420T151241Z
UID:69e64269df3c4
END:VEVENT
END:VCALENDAR