BEGIN:VCALENDAR
VERSION:2.0
PRODID:-//hacksw/handcal//NONSGML v1.0//EN
CALSCALE:GREGORIAN
BEGIN:VEVENT
SUMMARY:Die drei ??? - Toteninsel
DTSTART:20260211T133000Z
DTEND:20260211T154400Z
GEO:51.04384;13.73755
LOCATION:Cineplex Kristallpalast Dresden\, St. Petersburger Straße 24a\, 01069 Dresden
DESCRIPTION:
URL;VALUE=URI:http://kinokalender.com/termin1582615.html
DTSTAMP:20260421T220303Z
UID:69e7f41711928
END:VEVENT
END:VCALENDAR