BEGIN:VCALENDAR
VERSION:2.0
PRODID:-//hacksw/handcal//NONSGML v1.0//EN
CALSCALE:GREGORIAN
BEGIN:VEVENT
SUMMARY:Die drei ??? - Toteninsel
DTSTART:20260211T162000Z
DTEND:20260211T183400Z
GEO:51.04384;13.73755
LOCATION:Cineplex Kristallpalast Dresden\, St. Petersburger Straße 24a\, 01069 Dresden
DESCRIPTION:
URL;VALUE=URI:http://kinokalender.com/termin1582616.html
DTSTAMP:20260424T111520Z
UID:69eb50c8384ea
END:VEVENT
END:VCALENDAR