BEGIN:VCALENDAR
VERSION:2.0
PRODID:-//hacksw/handcal//NONSGML v1.0//EN
CALSCALE:GREGORIAN
BEGIN:VEVENT
SUMMARY:Madame Kika
DTSTART:20260317T190000Z
DTEND:20260317T212500Z
GEO:51.04594;13.67510
LOCATION:Passage\, Leutewitzer Ring 5\, 01169 Dresden
DESCRIPTION:
URL;VALUE=URI:http://kinokalender.com/termin1587155.html
DTSTAMP:20260426T040806Z
UID:69ed8fa6b5ed0
END:VEVENT
END:VCALENDAR