BEGIN:VCALENDAR
VERSION:2.0
PRODID:-//hacksw/handcal//NONSGML v1.0//EN
CALSCALE:GREGORIAN
BEGIN:VEVENT
SUMMARY:Avatar: Fire And Ash
DTSTART:20260310T182000Z
DTEND:20260310T220500Z
GEO:51.08285;13.69562
LOCATION:UCI-Kinowelt\, Lommatzscher Straße 82\, Elbepark\, 01139 Dresden-Mickten
DESCRIPTION:
URL;VALUE=URI:http://kinokalender.com/termin1588636.html
DTSTAMP:20260425T185919Z
UID:69ed0f073dad6
END:VEVENT
END:VCALENDAR