BEGIN:VCALENDAR
VERSION:2.0
PRODID:-//hacksw/handcal//NONSGML v1.0//EN
CALSCALE:GREGORIAN
BEGIN:VEVENT
SUMMARY:SpongeBob Schwammkopf: Piraten Ahoi!
DTSTART:20260304T125500Z
DTEND:20260304T145400Z
GEO:51.08285;13.69562
LOCATION:UCI-Kinowelt\, Lommatzscher Straße 82\, Elbepark\, 01139 Dresden-Mickten
DESCRIPTION:
URL;VALUE=URI:http://kinokalender.com/termin1588814.html
DTSTAMP:20260420T183204Z
UID:69e6712410bc3
END:VEVENT
END:VCALENDAR