BEGIN:VCALENDAR
VERSION:2.0
PRODID:-//hacksw/handcal//NONSGML v1.0//EN
CALSCALE:GREGORIAN
BEGIN:VEVENT
SUMMARY:Marty Supreme
DTSTART:20260310T154000Z
DTEND:20260310T184000Z
GEO:51.04487;13.73697
LOCATION:Rundkino Dresden\, Prager Straße 6\, 01069 Dresden
DESCRIPTION:
URL;VALUE=URI:http://kinokalender.com/termin1588908.html
DTSTAMP:20260422T152852Z
UID:69e8e934cc541
END:VEVENT
END:VCALENDAR