BEGIN:VCALENDAR
VERSION:2.0
PRODID:-//hacksw/handcal//NONSGML v1.0//EN
CALSCALE:GREGORIAN
BEGIN:VEVENT
SUMMARY:"Wuthering Heights" - Sturmhöhe
DTSTART:20260311T153000Z
DTEND:20260311T181600Z
GEO:51.04487;13.73697
LOCATION:Rundkino Dresden\, Prager Straße 6\, 01069 Dresden
DESCRIPTION:
URL;VALUE=URI:http://kinokalender.com/termin1588955.html
DTSTAMP:20260425T172337Z
UID:69ecf899a0e5b
END:VEVENT
END:VCALENDAR