BEGIN:VCALENDAR
VERSION:2.0
PRODID:-//hacksw/handcal//NONSGML v1.0//EN
CALSCALE:GREGORIAN
BEGIN:VEVENT
SUMMARY:The Bride! - Es lebe die Braut
DTSTART:20260310T190000Z
GEO:51.05182;13.80533
LOCATION:CinemaxX\, Hüblerstr. 8\, 01309 Dresden
DESCRIPTION:
URL;VALUE=URI:http://kinokalender.com/termin1589863.html
DTSTAMP:20260420T131915Z
UID:69e627d3d39a9
END:VEVENT
END:VCALENDAR