BEGIN:VCALENDAR
VERSION:2.0
PRODID:-//hacksw/handcal//NONSGML v1.0//EN
CALSCALE:GREGORIAN
BEGIN:VEVENT
SUMMARY:Marty Supreme
DTSTART:20260311T184500Z
DTEND:20260311T214500Z
GEO:51.07124;13.75051
LOCATION:Filmtheater Schauburg\, Königsbrücker Straße 55\, 01099 Dresden
DESCRIPTION:
URL;VALUE=URI:http://kinokalender.com/termin1590066.html
DTSTAMP:20260421T134810Z
UID:69e7801ae8b50
END:VEVENT
END:VCALENDAR