BEGIN:VCALENDAR
VERSION:2.0
PRODID:-//hacksw/handcal//NONSGML v1.0//EN
CALSCALE:GREGORIAN
BEGIN:VEVENT
SUMMARY:Hamnet
DTSTART:20260311T150000Z
DTEND:20260311T173600Z
GEO:51.07124;13.75051
LOCATION:Filmtheater Schauburg\, Königsbrücker Straße 55\, 01099 Dresden
DESCRIPTION:
URL;VALUE=URI:http://kinokalender.com/termin1590083.html
DTSTAMP:20260420T212819Z
UID:69e69a7349dd8
END:VEVENT
END:VCALENDAR