BEGIN:VCALENDAR
VERSION:2.0
PRODID:-//hacksw/handcal//NONSGML v1.0//EN
CALSCALE:GREGORIAN
BEGIN:VEVENT
SUMMARY:Marty Supreme (OmdU)
DTSTART:20260423T190000Z
DTEND:20260423T220000Z
GEO:51.06687;13.75428
LOCATION:Thalia\, Görlitzer Str. 6\, 01099 Dresden-Neustadt
DESCRIPTION:
URL;VALUE=URI:http://kinokalender.com/termin1590105.html
DTSTAMP:20260423T041717Z
UID:69e99d4d664cb
END:VEVENT
END:VCALENDAR