BEGIN:VCALENDAR
VERSION:2.0
PRODID:-//hacksw/handcal//NONSGML v1.0//EN
CALSCALE:GREGORIAN
BEGIN:VEVENT
SUMMARY:Ach diese Lücke\, diese entsetzliche Lücke
DTSTART:20260312T160000Z
GEO:51.05182;13.80533
LOCATION:CinemaxX\, Hüblerstr. 8\, 01309 Dresden
DESCRIPTION:
URL;VALUE=URI:http://kinokalender.com/termin1590816.html
DTSTAMP:20260420T121138Z
UID:69e617fa6d6ea
END:VEVENT
END:VCALENDAR