BEGIN:VCALENDAR
VERSION:2.0
PRODID:-//hacksw/handcal//NONSGML v1.0//EN
CALSCALE:GREGORIAN
BEGIN:VEVENT
SUMMARY:Für immer ein Teil von dir
DTSTART:20260312T184000Z
GEO:51.08285;13.69562
LOCATION:UCI-Kinowelt\, Lommatzscher Straße 82\, Elbepark\, 01139 Dresden-Mickten
DESCRIPTION:
URL;VALUE=URI:http://kinokalender.com/termin1591230.html
DTSTAMP:20260425T155835Z
UID:69ece4abed3cb
END:VEVENT
END:VCALENDAR