BEGIN:VCALENDAR
VERSION:2.0
PRODID:-//hacksw/handcal//NONSGML v1.0//EN
CALSCALE:GREGORIAN
BEGIN:VEVENT
SUMMARY:Nejistá sezóna - Eine unsichere Saison
DTSTART:20260506T160000Z
DTEND:20260506T175800Z
GEO:51.052574;13.721402
LOCATION:Zentralkino\, Kraftwerk Mitte 16\, 01067 Dresden-Mitte
DESCRIPTION:
URL;VALUE=URI:http://kinokalender.com/termin1593039.html
DTSTAMP:20260419T192807Z
UID:69e52cc7e737d
END:VEVENT
END:VCALENDAR