BEGIN:VCALENDAR
VERSION:2.0
PRODID:-//hacksw/handcal//NONSGML v1.0//EN
CALSCALE:GREGORIAN
BEGIN:VEVENT
SUMMARY:Gelbe Briefe
DTSTART:20260325T103000Z
DTEND:20260325T130800Z
GEO:51.07124;13.75051
LOCATION:Filmtheater Schauburg\, Königsbrücker Straße 55\, 01099 Dresden
DESCRIPTION:
URL;VALUE=URI:http://kinokalender.com/termin1593259.html
DTSTAMP:20260425T143618Z
UID:69ecd162b0e28
END:VEVENT
END:VCALENDAR