BEGIN:VCALENDAR
VERSION:2.0
PRODID:-//hacksw/handcal//NONSGML v1.0//EN
CALSCALE:GREGORIAN
BEGIN:VEVENT
SUMMARY:Humorzone 2027: KARO BENDER
DTSTART:20270311T190000Z
GEO:51.07124;13.75051
LOCATION:Filmtheater Schauburg\, Königsbrücker Straße 55\, 01099 Dresden
DESCRIPTION:
URL;VALUE=URI:http://kinokalender.com/termin1594524.html
DTSTAMP:20260420T034828Z
UID:69e5a20c03d17
END:VEVENT
END:VCALENDAR