BEGIN:VCALENDAR
VERSION:2.0
PRODID:-//hacksw/handcal//NONSGML v1.0//EN
CALSCALE:GREGORIAN
BEGIN:VEVENT
SUMMARY:Scream 7
DTSTART:20260415T150000Z
DTEND:20260415T172400Z
GEO:51.04487;13.73697
LOCATION:Rundkino Dresden\, Prager Straße 6\, 01069 Dresden
DESCRIPTION:
URL;VALUE=URI:http://kinokalender.com/termin1597233.html
DTSTAMP:20260420T090736Z
UID:69e5ecd8b1c52
END:VEVENT
END:VCALENDAR