BEGIN:VCALENDAR
VERSION:2.0
PRODID:-//hacksw/handcal//NONSGML v1.0//EN
CALSCALE:GREGORIAN
BEGIN:VEVENT
SUMMARY:Power To The People: John & Yoko Live In NYC
DTSTART:20260503T111500Z
DTEND:20260503T130600Z
GEO:51.03911;13.80653
LOCATION:Programmkino Ost\, Schandauer Straße 73\, 01277 Dresden-Striesen
DESCRIPTION:
URL;VALUE=URI:http://kinokalender.com/termin1598314.html
DTSTAMP:20260420T121208Z
UID:69e61818e6511
END:VEVENT
END:VCALENDAR