BEGIN:VCALENDAR
VERSION:2.0
PRODID:-//hacksw/handcal//NONSGML v1.0//EN
CALSCALE:GREGORIAN
BEGIN:VEVENT
SUMMARY:BTS WORLD TOUR 'ARIRANG' IN JAPAN: LIVE VIEWING
DTSTART:20260418T094500Z
GEO:51.08285;13.69562
LOCATION:UCI-Kinowelt\, Lommatzscher Straße 82\, Elbepark\, 01139 Dresden-Mickten
DESCRIPTION:
URL;VALUE=URI:http://kinokalender.com/termin1598341.html
DTSTAMP:20260420T213045Z
UID:69e69b052b733
END:VEVENT
END:VCALENDAR