BEGIN:VCALENDAR
VERSION:2.0
PRODID:-//hacksw/handcal//NONSGML v1.0//EN
CALSCALE:GREGORIAN
BEGIN:VEVENT
SUMMARY:Jazzy - Chaos im Regenwald
DTSTART:20260421T114000Z
DTEND:20260421T133700Z
GEO:51.08285;13.69562
LOCATION:UCI-Kinowelt\, Lommatzscher Straße 82\, Elbepark\, 01139 Dresden-Mickten
DESCRIPTION:
URL;VALUE=URI:http://kinokalender.com/termin1598531.html
DTSTAMP:20260420T085255Z
UID:69e5e96797608
END:VEVENT
END:VCALENDAR