BEGIN:VCALENDAR
VERSION:2.0
PRODID:-//hacksw/handcal//NONSGML v1.0//EN
CALSCALE:GREGORIAN
BEGIN:VEVENT
SUMMARY:Normal
DTSTART:20260418T205000Z
DTEND:20260418T225300Z
GEO:51.04487;13.73697
LOCATION:Rundkino Dresden\, Prager Straße 6\, 01069 Dresden
DESCRIPTION:
URL;VALUE=URI:http://kinokalender.com/termin1598618.html
DTSTAMP:20260425T203409Z
UID:69ed2541a48ae
END:VEVENT
END:VCALENDAR