BEGIN:VCALENDAR
VERSION:2.0
PRODID:-//hacksw/handcal//NONSGML v1.0//EN
CALSCALE:GREGORIAN
BEGIN:VEVENT
SUMMARY:Scream 7
DTSTART:20260417T151000Z
DTEND:20260417T173400Z
GEO:51.04487;13.73697
LOCATION:Rundkino Dresden\, Prager Straße 6\, 01069 Dresden
DESCRIPTION:
URL;VALUE=URI:http://kinokalender.com/termin1598669.html
DTSTAMP:20260421T060006Z
UID:69e71266a7237
END:VEVENT
END:VCALENDAR