BEGIN:VCALENDAR
VERSION:2.0
PRODID:-//hacksw/handcal//NONSGML v1.0//EN
CALSCALE:GREGORIAN
BEGIN:VEVENT
SUMMARY:Allegro Pastell
DTSTART:20260416T174500Z
DTEND:20260416T195500Z
GEO:51.04487;13.73697
LOCATION:Rundkino Dresden\, Prager Straße 6\, 01069 Dresden
DESCRIPTION:
URL;VALUE=URI:http://kinokalender.com/termin1598714.html
DTSTAMP:20260420T212839Z
UID:69e69a87c4ed5
END:VEVENT
END:VCALENDAR