BEGIN:VCALENDAR
VERSION:2.0
PRODID:-//hacksw/handcal//NONSGML v1.0//EN
CALSCALE:GREGORIAN
BEGIN:VEVENT
SUMMARY:Horst Schlämmer sucht das Glück
DTSTART:20260418T123000Z
DTEND:20260418T144000Z
GEO:51.04487;13.73697
LOCATION:Rundkino Dresden\, Prager Straße 6\, 01069 Dresden
DESCRIPTION:
URL;VALUE=URI:http://kinokalender.com/termin1598726.html
DTSTAMP:20260420T104347Z
UID:69e603632f926
END:VEVENT
END:VCALENDAR