BEGIN:VCALENDAR
VERSION:2.0
PRODID:-//hacksw/handcal//NONSGML v1.0//EN
CALSCALE:GREGORIAN
BEGIN:VEVENT
SUMMARY:Jazzy - Chaos im Regenwald
DTSTART:20260420T120000Z
DTEND:20260420T135700Z
GEO:51.04384;13.73755
LOCATION:Cineplex Kristallpalast Dresden\, St. Petersburger Straße 24a\, 01069 Dresden
DESCRIPTION:
URL;VALUE=URI:http://kinokalender.com/termin1598909.html
DTSTAMP:20260420T121058Z
UID:69e617d22ad8d
END:VEVENT
END:VCALENDAR