BEGIN:VCALENDAR
VERSION:2.0
PRODID:-//hacksw/handcal//NONSGML v1.0//EN
CALSCALE:GREGORIAN
BEGIN:VEVENT
SUMMARY:BTS WORLD TOUR 'ARIRANG' IN GOYANG: LIVE VIEWING
DTSTART:20260418T094500Z
GEO:51.05182;13.80533
LOCATION:CinemaxX\, Hüblerstr. 8\, 01309 Dresden
DESCRIPTION:
URL;VALUE=URI:http://kinokalender.com/termin1599163.html
DTSTAMP:20260419T182128Z
UID:69e51d2874d72
END:VEVENT
END:VCALENDAR