BEGIN:VCALENDAR
VERSION:2.0
PRODID:-//hacksw/handcal//NONSGML v1.0//EN
CALSCALE:GREGORIAN
BEGIN:VEVENT
SUMMARY:BTS WORLD TOUR 'ARIRANG' IN GOYANG: LIVE VIEWING
DTSTART:20260418T133000Z
GEO:51.05182;13.80533
LOCATION:CinemaxX\, Hüblerstr. 8\, 01309 Dresden
DESCRIPTION:
URL;VALUE=URI:http://kinokalender.com/termin1599164.html
DTSTAMP:20260422T090758Z
UID:69e88fee396ad
END:VEVENT
END:VCALENDAR