BEGIN:VCALENDAR
VERSION:2.0
PRODID:-//hacksw/handcal//NONSGML v1.0//EN
CALSCALE:GREGORIAN
BEGIN:VEVENT
SUMMARY:Father Mother Sister Brother (OmdU)
DTSTART:20260423T151500Z
DTEND:20260423T173500Z
GEO:51.06687;13.75428
LOCATION:Thalia\, Görlitzer Str. 6\, 01099 Dresden-Neustadt
DESCRIPTION:
URL;VALUE=URI:http://kinokalender.com/termin1599424.html
DTSTAMP:20260423T041707Z
UID:69e99d4362ca5
END:VEVENT
END:VCALENDAR