BEGIN:VCALENDAR
VERSION:2.0
PRODID:-//hacksw/handcal//NONSGML v1.0//EN
CALSCALE:GREGORIAN
BEGIN:VEVENT
SUMMARY:Der Magier Im Kreml
DTSTART:20260427T150000Z
DTEND:20260427T175500Z
GEO:51.052574;13.721402
LOCATION:Zentralkino\, Kraftwerk Mitte 16\, 01067 Dresden-Mitte
DESCRIPTION:
URL;VALUE=URI:http://kinokalender.com/termin1599464.html
DTSTAMP:20260421T204846Z
UID:69e7e2ae27df2
END:VEVENT
END:VCALENDAR