BEGIN:VCALENDAR
VERSION:2.0
PRODID:-//hacksw/handcal//NONSGML v1.0//EN
CALSCALE:GREGORIAN
BEGIN:VEVENT
SUMMARY:Rosebush Pruning
DTSTART:20260424T140000Z
DTEND:20260424T160500Z
GEO:51.052574;13.721402
LOCATION:Zentralkino\, Kraftwerk Mitte 16\, 01067 Dresden-Mitte
DESCRIPTION:
URL;VALUE=URI:http://kinokalender.com/termin1599498.html
DTSTAMP:20260425T203413Z
UID:69ed2545edc84
END:VEVENT
END:VCALENDAR