BEGIN:VCALENDAR
VERSION:2.0
PRODID:-//hacksw/handcal//NONSGML v1.0//EN
CALSCALE:GREGORIAN
BEGIN:VEVENT
SUMMARY:Siri Hustvedt - Dance Around
DTSTART:20260426T111500Z
DTEND:20260426T134000Z
GEO:51.052574;13.721402
LOCATION:Zentralkino\, Kraftwerk Mitte 16\, 01067 Dresden-Mitte
DESCRIPTION:
URL;VALUE=URI:http://kinokalender.com/termin1599500.html
DTSTAMP:20260426T034938Z
UID:69ed8b5243753
END:VEVENT
END:VCALENDAR