BEGIN:VCALENDAR
VERSION:2.0
PRODID:-//hacksw/handcal//NONSGML v1.0//EN
CALSCALE:GREGORIAN
BEGIN:VEVENT
SUMMARY:Die reichste Frau der Welt
DTSTART:20260423T181500Z
DTEND:20260423T204600Z
GEO:51.03911;13.80653
LOCATION:Programmkino Ost\, Schandauer Straße 73\, 01277 Dresden-Striesen
DESCRIPTION:
URL;VALUE=URI:http://kinokalender.com/termin1599619.html
DTSTAMP:20260426T040846Z
UID:69ed8fcef2ad3
END:VEVENT
END:VCALENDAR