BEGIN:VCALENDAR
VERSION:2.0
PRODID:-//hacksw/handcal//NONSGML v1.0//EN
CALSCALE:GREGORIAN
BEGIN:VEVENT
SUMMARY:Die reichste Frau der Welt
DTSTART:20260427T151500Z
DTEND:20260427T174600Z
GEO:51.03911;13.80653
LOCATION:Programmkino Ost\, Schandauer Straße 73\, 01277 Dresden-Striesen
DESCRIPTION:
URL;VALUE=URI:http://kinokalender.com/termin1599627.html
DTSTAMP:20260424T234547Z
UID:69ec00ab43edf
END:VEVENT
END:VCALENDAR