BEGIN:VCALENDAR
VERSION:2.0
PRODID:-//hacksw/handcal//NONSGML v1.0//EN
CALSCALE:GREGORIAN
BEGIN:VEVENT
SUMMARY:Das Flüstern der Wälder
DTSTART:20260426T114000Z
DTEND:20260426T134300Z
GEO:51.03911;13.80653
LOCATION:Programmkino Ost\, Schandauer Straße 73\, 01277 Dresden-Striesen
DESCRIPTION:
URL;VALUE=URI:http://kinokalender.com/termin1599643.html
DTSTAMP:20260423T041729Z
UID:69e99d59deaa5
END:VEVENT
END:VCALENDAR