BEGIN:VCALENDAR
VERSION:2.0
PRODID:-//hacksw/handcal//NONSGML v1.0//EN
CALSCALE:GREGORIAN
BEGIN:VEVENT
SUMMARY:Ach diese Lücke\, diese entsetzliche Lücke
DTSTART:20260426T153000Z
GEO:51.03911;13.80653
LOCATION:Programmkino Ost\, Schandauer Straße 73\, 01277 Dresden-Striesen
DESCRIPTION:
URL;VALUE=URI:http://kinokalender.com/termin1599646.html
DTSTAMP:20260421T221031Z
UID:69e7f5d706134
END:VEVENT
END:VCALENDAR