BEGIN:VCALENDAR
VERSION:2.0
PRODID:-//hacksw/handcal//NONSGML v1.0//EN
CALSCALE:GREGORIAN
BEGIN:VEVENT
SUMMARY:Das Drama
DTSTART:20260426T183000Z
DTEND:20260426T204500Z
GEO:51.03911;13.80653
LOCATION:Programmkino Ost\, Schandauer Straße 73\, 01277 Dresden-Striesen
DESCRIPTION:
URL;VALUE=URI:http://kinokalender.com/termin1599648.html
DTSTAMP:20260426T023144Z
UID:69ed791060562
END:VEVENT
END:VCALENDAR