BEGIN:VCALENDAR
VERSION:2.0
PRODID:-//hacksw/handcal//NONSGML v1.0//EN
CALSCALE:GREGORIAN
BEGIN:VEVENT
SUMMARY:Rose
DTSTART:20260427T180000Z
DTEND:20260427T200400Z
GEO:51.03911;13.80653
LOCATION:Programmkino Ost\, Schandauer Straße 73\, 01277 Dresden-Striesen
DESCRIPTION:
URL;VALUE=URI:http://kinokalender.com/termin1599653.html
DTSTAMP:20260425T033752Z
UID:69ec3710846b7
END:VEVENT
END:VCALENDAR