BEGIN:VCALENDAR
VERSION:2.0
PRODID:-//hacksw/handcal//NONSGML v1.0//EN
CALSCALE:GREGORIAN
BEGIN:VEVENT
SUMMARY:Es sind die kleinen Dinge
DTSTART:20260513T153000Z
DTEND:20260513T173000Z
GEO:51.03911;13.80653
LOCATION:Programmkino Ost\, Schandauer Straße 73\, 01277 Dresden-Striesen
DESCRIPTION:
URL;VALUE=URI:http://kinokalender.com/termin1599702.html
DTSTAMP:20260425T155925Z
UID:69ece4dddcda4
END:VEVENT
END:VCALENDAR