BEGIN:VCALENDAR
VERSION:2.0
PRODID:-//hacksw/handcal//NONSGML v1.0//EN
CALSCALE:GREGORIAN
BEGIN:VEVENT
SUMMARY:Hundstage
DTSTART:20260525T180000Z
DTEND:20260525T203000Z
GEO:51.03911;13.80653
LOCATION:Programmkino Ost\, Schandauer Straße 73\, 01277 Dresden-Striesen
DESCRIPTION:
URL;VALUE=URI:http://kinokalender.com/termin1599709.html
DTSTAMP:20260421T073253Z
UID:69e7282560bda
END:VEVENT
END:VCALENDAR