BEGIN:VCALENDAR
VERSION:2.0
PRODID:-//hacksw/handcal//NONSGML v1.0//EN
CALSCALE:GREGORIAN
BEGIN:VEVENT
SUMMARY:Der Teufel trägt Prada 2
DTSTART:20260501T145000Z
DTEND:20260501T171300Z
GEO:51.08285;13.69562
LOCATION:UCI-Kinowelt\, Lommatzscher Straße 82\, Elbepark\, 01139 Dresden-Mickten
DESCRIPTION:
URL;VALUE=URI:http://kinokalender.com/termin1599838.html
DTSTAMP:20260425T203528Z
UID:69ed259085f7a
END:VEVENT
END:VCALENDAR