BEGIN:VCALENDAR
VERSION:2.0
PRODID:-//hacksw/handcal//NONSGML v1.0//EN
CALSCALE:GREGORIAN
BEGIN:VEVENT
SUMMARY:Der Teufel trägt Prada 2
DTSTART:20260506T145000Z
DTEND:20260506T171300Z
GEO:51.08285;13.69562
LOCATION:UCI-Kinowelt\, Lommatzscher Straße 82\, Elbepark\, 01139 Dresden-Mickten
DESCRIPTION:
URL;VALUE=URI:http://kinokalender.com/termin1599847.html
DTSTAMP:20260421T223323Z
UID:69e7fb3317d3f
END:VEVENT
END:VCALENDAR