BEGIN:VCALENDAR
VERSION:2.0
PRODID:-//hacksw/handcal//NONSGML v1.0//EN
CALSCALE:GREGORIAN
BEGIN:VEVENT
SUMMARY:Lee Cronin’s The Mummy
DTSTART:20260422T175000Z
GEO:51.08285;13.69562
LOCATION:UCI-Kinowelt\, Lommatzscher Straße 82\, Elbepark\, 01139 Dresden-Mickten
DESCRIPTION:
URL;VALUE=URI:http://kinokalender.com/termin1599911.html
DTSTAMP:20260426T025318Z
UID:69ed7e1e5b280
END:VEVENT
END:VCALENDAR